BEGIN:VCALENDAR
VERSION:2.0
PRODID:-//ChamberMaster//Event Calendar 2.0//EN
METHOD:PUBLISH
X-PUBLISHED-TTL:P3D
REFRESH-INTERVAL:P3D
CALSCALE:GREGORIAN
BEGIN:VEVENT
DTSTART:20241021T233000Z
DTEND:20241022T013000Z
X-MICROSOFT-CDO-ALLDAYEVENT:FALSE
SUMMARY:Paint Party ~ Witches be Crazy
DESCRIPTION:Paint Party - Step by step paining of witch with brooms. Very fun and easy painting for the Halloween season!
X-ALT-DESC;FMTTYPE=text/html:Paint Party - Step by step paining of witch with brooms. Very fun and easy painting for the Halloween season!
LOCATION:JD's Lounge - 415 S Chapelle
UID:e.413.40178
SEQUENCE:3
DTSTAMP:20260420T042010Z
URL:https://business.pierre.org/events/details/paint-party-witches-be-crazy-40178
END:VEVENT

END:VCALENDAR
