BEGIN:VCALENDAR
VERSION:2.0
PRODID:-//ChamberMaster//Event Calendar 2.0//EN
METHOD:PUBLISH
X-PUBLISHED-TTL:P3D
REFRESH-INTERVAL:P3D
CALSCALE:GREGORIAN
BEGIN:VEVENT
DTSTART:20200405T180000Z
DTEND:20200405T200000Z
X-MICROSOFT-CDO-ALLDAYEVENT:FALSE
SUMMARY:Open Skate
DESCRIPTION:Open skate is going on every week now. $3.00 to skate $2.00 to rent skates
X-ALT-DESC;FMTTYPE=text/html:Open skate is going on every week now. $3.00 to skate $2.00 to rent skates
LOCATION:PAYSA Rink behind Walmart
UID:e.413.29111
SEQUENCE:3
DTSTAMP:20260421T215648Z
URL:https://business.pierre.org/events/details/open-skate-04-05-2020-29111
END:VEVENT

END:VCALENDAR
