BEGIN:VCALENDAR
VERSION:2.0
PRODID:-//ChamberMaster//Event Calendar 2.0//EN
METHOD:PUBLISH
X-PUBLISHED-TTL:P3D
REFRESH-INTERVAL:P3D
CALSCALE:GREGORIAN
BEGIN:VEVENT
DTSTART:20241004T210000Z
DTEND:20241007T020000Z
X-MICROSOFT-CDO-ALLDAYEVENT:FALSE
SUMMARY:Oktoberfest Celebration at Drifters
DESCRIPTION:It's time to break out the lederhosen and join us for Drifters' Oktoberfest Celebration! From October 2nd to 6th\, we'll be serving up festive food and drink specials that will transport you to Bavaria. Come enjoy our authentic German flavors and seasonal beers\, perfect for celebrating fall.\n\n\n\nGerman Beer Flight:\n\nCohort Keller Bier\n\nZymurcracy Festbier\n\nBen's Oktoberfest Marzen\n\nLost Cabin Power Wold Schwarzbier\n\n\n\nDinner Features:\n\nFlammkuchen\n\nBeer Cheese Mac with Bratwurst\n\nWiesen Hendl\n\n\n\nGather your friends and family and join us for a week of delicious food\, refreshing drinks\, festive fun. Whether you're a fan of traditional German dishes or just want to try something new\, there's something for everyone at Drifters' Oktoberfest!
X-ALT-DESC;FMTTYPE=text/html:It&#39\;s time to break out the lederhosen and join us for Drifters&#39\; Oktoberfest Celebration! From October 2nd to 6th\, we&#39\;ll be serving up festive food and drink specials that will transport you to Bavaria. Come enjoy our authentic German flavors and seasonal beers\, perfect for celebrating fall.<br />\n<br />\nGerman Beer Flight:<br />\nCohort Keller Bier<br />\nZymurcracy Festbier<br />\nBen&#39\;s Oktoberfest Marzen<br />\nLost Cabin Power Wold Schwarzbier<br />\n<br />\nDinner Features:<br />\nFlammkuchen<br />\nBeer Cheese Mac with Bratwurst<br />\nWiesen Hendl<br />\n<br />\nGather your friends and family and join us for a week of delicious food\, refreshing drinks\, festive fun. Whether you&#39\;re a fan of traditional German dishes or just want to try something new\, there&#39\;s something for everyone at Drifters&#39\; Oktoberfest!
LOCATION:Drifters Bar & Grille 325 E. Hustan Avenue
UID:e.413.40075
SEQUENCE:3
DTSTAMP:20260420T183105Z
URL:https://business.pierre.org/events/details/oktoberfest-celebration-at-drifters-40075
END:VEVENT

END:VCALENDAR
