BEGIN:VCALENDAR
VERSION:2.0
PRODID:-//ChamberMaster//Event Calendar 2.0//EN
METHOD:PUBLISH
X-PUBLISHED-TTL:P3D
REFRESH-INTERVAL:P3D
CALSCALE:GREGORIAN
BEGIN:VEVENT
DTSTART:20261205T150000Z
DTEND:20261205T220000Z
X-MICROSOFT-CDO-ALLDAYEVENT:FALSE
SUMMARY:Oahe Winter Festival 2026
DESCRIPTION:Oahe Winter Festival 2026 - Saturday\, December 5th.\n\n \n\nGet ready to celebrate the magic of the season at the Oahe Winter Festival 2026! Stay tuned for further details! \n\n \n\n** Questions? Call us at 605-224-7361 or email edealba@pierre.org.\n\n \n\n   Disclaimer: Oahe Winter Festival is only applicable to Pierre Area Chamber of Commerce events and vendor locations.
X-ALT-DESC;FMTTYPE=text/html:<p data-end="94" data-start="57"><span style="font-size:22px\;"><strong data-end="92" data-start="57"><span style="background-color:#AFEEEE\;">Oahe Winter Festival 2026&nbsp\;- Saturday\, December 5th.</span></strong></span><br />\n&nbsp\;</p>\n\n<p data-end="288" data-start="96"><span style="font-size:16px\;">Get ready to celebrate the magic of the season at the <strong data-end="179" data-start="150">Oahe Winter Festival 2026</strong>! Stay tuned for further details!&nbsp\;</span><br />\n&nbsp\;</p>\n\n<p data-end="843" data-start="767"><span style="font-size:20px\;">** Questions? Call us at <strong data-end="808" data-start="792">605-224-7361</strong> or email </span><span style="font-size:20px\;"><strong data-end="840" data-start="818"><a href="mailto:edealba@pierre.org">edealba@pierre.org</a></strong></span><strong data-end="840" data-start="818"><a class="decorated-link cursor-pointer" data-end="838" data-start="820" rel="noopener"><span aria-hidden="true" class="ms-0.5 inline-block align-middle leading-none"><svg class="block h-[0.75em] w-[0.75em] stroke-current stroke-[0.75]" data-rtl-flip="" fill="currentColor" height="20" viewbox="0 0 20 20" width="20" xmlns="http://www.w3.org/2000/svg"><path d="M14.3349 13.3301V6.60645L5.47065 15.4707C5.21095 15.7304 4.78895 15.7304 4.52925 15.4707C4.26955 15.211 4.26955 14.789 4.52925 14.5293L13.3935 5.66504H6.66011C6.29284 5.66504 5.99507 5.36727 5.99507 5C5.99507 4.63273 6.29284 4.33496 6.66011 4.33496H14.9999L15.1337 4.34863C15.4369 4.41057 15.665 4.67857 15.665 5V13.3301C15.6649 13.6973 15.3672 13.9951 14.9999 13.9951C14.6327 13.9951 14.335 13.6973 14.3349 13.3301Z"></path></svg></span></a></strong><span style="font-size:20px\;">.</span><br />\n&nbsp\;</p>\n\n<p data-end="973" data-start="845"><span style="font-size:20px\;">&#9888\;&#65039\; <strong data-end="863" data-start="848">Disclaimer:</strong> Oahe Winter Festival is only applicable to <strong data-end="970" data-start="907">Pierre Area Chamber of Commerce events and vendor locations</strong>.</span></p>\n
LOCATION:
UID:e.413.43271
SEQUENCE:3
DTSTAMP:20260423T094730Z
URL:https://business.pierre.org/events/details/oahe-winter-festival-2026-43271
END:VEVENT

END:VCALENDAR
