BEGIN:VCALENDAR
VERSION:2.0
PRODID:-//ChamberMaster//Event Calendar 2.0//EN
METHOD:PUBLISH
X-PUBLISHED-TTL:P3D
REFRESH-INTERVAL:P3D
CALSCALE:GREGORIAN
BEGIN:VEVENT
DTSTART:20190901T140000Z
DTEND:20190901T230000Z
X-MICROSOFT-CDO-ALLDAYEVENT:FALSE
SUMMARY:Oahe Speedway Pepsi Points Race & King of the Track
DESCRIPTION:Summit Racing Equipment "King of the Track" The winners of all the Big Car classes including Bike/Sled will be laddered by their reaction times in their respective final round wins. This runoff will be contested after final round in all classes. Racers/Spectators Gate Opens 8am Tech Opens 8am Spectator Entry Adults   $10 Teens   $5 Kids   12 and Under Always Free! Qualifying 9am Eliminations 1pm
X-ALT-DESC;FMTTYPE=text/html:Summit Racing Equipment &ldquo\;King of the Track&rdquo\; The winners of all the Big Car classes including Bike/Sled will be laddered by their reaction times in their respective final round wins. This runoff will be contested after final round in all classes. Racers/Spectators Gate Opens 8am Tech Opens 8am Spectator Entry Adults &ndash\; $10 Teens &ndash\; $5 Kids &ndash\; 12 and Under Always Free! Qualifying 9am Eliminations 1pm
LOCATION:Oahe Speeday
UID:e.413.28803
SEQUENCE:3
DTSTAMP:20260420T232511Z
URL:https://business.pierre.org/events/details/oahe-speedway-pepsi-points-race-king-of-the-track-28803
END:VEVENT

END:VCALENDAR
