BEGIN:VCALENDAR
VERSION:2.0
PRODID:-//ChamberMaster//Event Calendar 2.0//EN
METHOD:PUBLISH
X-PUBLISHED-TTL:P3D
REFRESH-INTERVAL:P3D
CALSCALE:GREGORIAN
BEGIN:VEVENT
DTSTART:20240712T150000Z
DTEND:20240712T210000Z
X-MICROSOFT-CDO-ALLDAYEVENT:FALSE
SUMMARY:Oahe Home Builders Association Charity Golf Tournament
DESCRIPTION:10 AM Registration 11AM Shotgun Start Prizes & Lunch to follow Register your team today!! $125 per person All funds go into our community fund. Our community fund is there to help those in need and various scholarships!
X-ALT-DESC;FMTTYPE=text/html:10 AM Registration 11AM Shotgun Start Prizes &amp\; Lunch to follow Register your team today!! $125 per person All funds go into our community fund. Our community fund is there to help those in need and various scholarships!
LOCATION:HillsView Golf Course Pierre\, South Dakota
UID:e.413.39481
SEQUENCE:3
DTSTAMP:20260426T004109Z
URL:https://business.pierre.org/events/details/oahe-home-builders-association-charity-golf-tournament-39481
END:VEVENT

END:VCALENDAR
