BEGIN:VCALENDAR
VERSION:2.0
PRODID:-//ChamberMaster//Event Calendar 2.0//EN
METHOD:PUBLISH
X-PUBLISHED-TTL:P3D
REFRESH-INTERVAL:P3D
CALSCALE:GREGORIAN
BEGIN:VEVENT
DTSTART:20180923T183000Z
DTEND:20180923T203000Z
X-MICROSOFT-CDO-ALLDAYEVENT:FALSE
SUMMARY:Oahe Chapel Pie Social
DESCRIPTION:Come to the historic Oahe Chapel on Sunday\, Sept. 23 for a good old-fashioned pie social! This event is free and open to the public and will feature pie and ice cream\, root beer floats\, yard games\, and a concert in the chapel at 2:00 by Surprise Package. In case of inclement weather\, the event will be held next door to the chapel in the Visitors Center.
X-ALT-DESC;FMTTYPE=text/html:Come to the historic Oahe Chapel on Sunday\, Sept. 23 for a good old-fashioned pie social! This event is free and open to the public and will feature pie and ice cream\, root beer floats\, yard games\, and a concert in the chapel at 2:00 by Surprise Package. In case of inclement weather\, the event will be held next door to the chapel in the Visitors Center.
LOCATION:Oahe Chapel\, north of Pierre on Highway 1804\, at the east end of Oahe Dam
UID:e.413.26182
SEQUENCE:3
DTSTAMP:20260420T145837Z
URL:https://business.pierre.org/events/details/oahe-chapel-pie-social-26182
END:VEVENT

END:VCALENDAR
