BEGIN:VCALENDAR
VERSION:2.0
PRODID:-//ChamberMaster//Event Calendar 2.0//EN
METHOD:PUBLISH
X-PUBLISHED-TTL:P3D
REFRESH-INTERVAL:P3D
CALSCALE:GREGORIAN
BEGIN:VEVENT
DTSTART:20190901T170000Z
DTEND:20190901T170000Z
X-MICROSOFT-CDO-ALLDAYEVENT:FALSE
SUMMARY:Northridge Plaza Hours
DESCRIPTION:Mall Hours Effective September 1\, 2019. Monday - Friday 9:00 a.m. - 8:00 p.m. Saturday 10:00 a.m. - 6:00 p.m. Sunday 12:00 p.m. - 5:00 p.m.
X-ALT-DESC;FMTTYPE=text/html:Mall Hours Effective September 1\, 2019. Monday - Friday 9:00 a.m. - 8:00 p.m. Saturday 10:00 a.m. - 6:00 p.m. Sunday 12:00 p.m. - 5:00 p.m.
LOCATION:Northridge Plaza
UID:e.413.28837
SEQUENCE:3
DTSTAMP:20260420T131814Z
URL:https://business.pierre.org/events/details/northridge-plaza-hours-09-01-2019-28837
END:VEVENT

END:VCALENDAR
