BEGIN:VCALENDAR
VERSION:2.0
PRODID:-//ChamberMaster//Event Calendar 2.0//EN
METHOD:PUBLISH
X-PUBLISHED-TTL:P3D
REFRESH-INTERVAL:P3D
CALSCALE:GREGORIAN
BEGIN:VEVENT
DTSTART:20200731T020000Z
DTEND:20200731T040000Z
X-MICROSOFT-CDO-ALLDAYEVENT:FALSE
SUMMARY:Movies in the Park: The Goonies
DESCRIPTION:Join the Pierre Recreation Department for the last movie in the park of the season\, The Goonies. The movie starts at 9:00 PM and is free. Bring your seating\, snacks and bug spray and enjoy!
X-ALT-DESC;FMTTYPE=text/html:Join the Pierre Recreation Department for the last movie in the park of the season\, The Goonies. The movie starts at 9:00 PM and is free. Bring your seating\, snacks and bug spray and enjoy!
LOCATION:Steamboat Park Amphitheater
UID:e.413.32408
SEQUENCE:3
DTSTAMP:20260423T085508Z
URL:https://business.pierre.org/events/details/movies-in-the-park-the-goonies-07-30-2020-32408
END:VEVENT

END:VCALENDAR
