BEGIN:VCALENDAR
VERSION:2.0
PRODID:-//ChamberMaster//Event Calendar 2.0//EN
METHOD:PUBLISH
X-PUBLISHED-TTL:P3D
REFRESH-INTERVAL:P3D
CALSCALE:GREGORIAN
BEGIN:VEVENT
DTSTART:20220911T010000Z
DTEND:20220911T040000Z
X-MICROSOFT-CDO-ALLDAYEVENT:FALSE
SUMMARY:Moonlight Paddle
DESCRIPTION:Get Star-Struck with Space Exploration in Our Community! Kayaks for this program can be provided\; donations to #starstrucksd campaign encouraged. Hosted by the South Dakota Discovery Center and the South Dakota Canoe and Kayak Association
X-ALT-DESC;FMTTYPE=text/html:Get Star-Struck with Space Exploration in Our Community! Kayaks for this program can be provided\; donations to #starstrucksd campaign encouraged. Hosted by the South Dakota Discovery Center and the South Dakota Canoe and Kayak Association
LOCATION:La Framboise Causeway
UID:e.413.36224
SEQUENCE:3
DTSTAMP:20260419T195134Z
URL:https://business.pierre.org/events/details/moonlight-paddle-09-10-2022-36224
END:VEVENT

END:VCALENDAR
