BEGIN:VCALENDAR
VERSION:2.0
PRODID:-//ChamberMaster//Event Calendar 2.0//EN
METHOD:PUBLISH
X-PUBLISHED-TTL:P3D
REFRESH-INTERVAL:P3D
CALSCALE:GREGORIAN
BEGIN:VEVENT
DTSTART:20210410T220000Z
DTEND:20210411T000000Z
X-MICROSOFT-CDO-ALLDAYEVENT:FALSE
SUMMARY:Mardi Gras Fundraiser Meal
DESCRIPTION:Jambalaya!\n\nMaque Choux!\n\nBeignets!\n\n\n\nDrive-through pickup only.\n\n\n\nProceeds benefit the SD Discovery Center's Treehouse project.    \n\nEvent Sponsored by the Pierre-Fort Pierre Rotary Club
X-ALT-DESC;FMTTYPE=text/html:Jambalaya!<br />\nMaque Choux!<br />\nBeignets!<br />\n<br />\nDrive-through pickup only.<br />\n<br />\nProceeds benefit the SD Discovery Center&#39\;s Treehouse project.&nbsp\; &nbsp\;&nbsp\;<br />\nEvent Sponsored by the Pierre-Fort Pierre Rotary Club
LOCATION:First United Methodist Church Parking Lot
UID:e.413.34202
SEQUENCE:3
DTSTAMP:20260420T170204Z
URL:https://business.pierre.org/events/details/mardi-gras-fundraiser-meal-34202
END:VEVENT

END:VCALENDAR
