BEGIN:VCALENDAR
VERSION:2.0
PRODID:-//ChamberMaster//Event Calendar 2.0//EN
METHOD:PUBLISH
X-PUBLISHED-TTL:P3D
REFRESH-INTERVAL:P3D
CALSCALE:GREGORIAN
BEGIN:VEVENT
DTSTART:20241104T213000Z
DTEND:20241104T213000Z
X-MICROSOFT-CDO-ALLDAYEVENT:FALSE
SUMMARY:Makerspace Monday: Veterans Day Poppies
DESCRIPTION:Join us for this after-school Veterans Remembrance program where we'll hear stories about the special meaning and make an arrangement of Remembrance poppies.\n\n\n\nParticipants will make an arrangement of Remembrance Poppies using muffin papers\, pipe cleaners\, recycled bottles\, and more. \n\n\n\nOver 100 Years ago\, the National American Legion voted to use the poppy as the official US national emblem of remembrance\, Shortly after\, other nations adopted the remembrance poppy. Today\, millions across the globe wear the red poppy on Armistice Day (November 11) or Memorial Day (last Monday in May)
X-ALT-DESC;FMTTYPE=text/html:Join us for this after-school Veterans Remembrance program where we&#39\;ll hear stories about the special meaning and make an arrangement of Remembrance poppies.<br />\n<br />\nParticipants will make an arrangement of Remembrance Poppies using muffin papers\, pipe cleaners\, recycled bottles\, and more.&nbsp\;<br />\n<br />\nOver 100 Years ago\, the National American Legion voted to use the poppy as the official US national emblem of remembrance\, Shortly after\, other nations adopted the remembrance poppy. Today\, millions across the globe wear the red poppy on Armistice Day (November 11) or Memorial Day (last Monday in May)
LOCATION:Rawlins Library in the SD Room
UID:e.413.40290
SEQUENCE:3
DTSTAMP:20260423T205706Z
URL:https://business.pierre.org/events/details/makerspace-monday-veterans-day-poppies-40290
END:VEVENT

END:VCALENDAR
