BEGIN:VCALENDAR
VERSION:2.0
PRODID:-//ChamberMaster//Event Calendar 2.0//EN
METHOD:PUBLISH
X-PUBLISHED-TTL:P3D
REFRESH-INTERVAL:P3D
CALSCALE:GREGORIAN
BEGIN:VEVENT
DTSTART:20240511T150000Z
DTEND:20240511T150000Z
X-MICROSOFT-CDO-ALLDAYEVENT:FALSE
SUMMARY:Macrame Creativebug Craft Workshop - Rawlins Library
DESCRIPTION:Come try your talent at something new! Registration is required\, get a spot while they're available! Presented by Selena Parce. Saturday\, May 11th at 10 AM. Participants will make a macrame key chain. $5 Dollar Material Fee (Cash or Check) Sign up is required. Call 605-773-7421 or scan the QR code below.
X-ALT-DESC;FMTTYPE=text/html:Come try your talent at something new! Registration is required\, get a spot while they&#39\;re available! Presented by Selena Parce. Saturday\, May 11th at 10 AM. Participants will make a macrame key chain. $5 Dollar Material Fee (Cash or Check) Sign up is required. Call 605-773-7421 or scan the QR code below.&nbsp\;
LOCATION:Rawlins Library
UID:e.413.39080
SEQUENCE:3
DTSTAMP:20260423T145210Z
URL:https://business.pierre.org/events/details/macrame-creativebug-craft-workshop-rawlins-library-39080
END:VEVENT

END:VCALENDAR
