BEGIN:VCALENDAR
VERSION:2.0
PRODID:-//ChamberMaster//Event Calendar 2.0//EN
METHOD:PUBLISH
X-PUBLISHED-TTL:P3D
REFRESH-INTERVAL:P3D
CALSCALE:GREGORIAN
BEGIN:VEVENT
DTSTART:20240713T210000Z
DTEND:20240713T210000Z
X-MICROSOFT-CDO-ALLDAYEVENT:FALSE
SUMMARY:Live Group Reading
DESCRIPTION:Soul Connections\, LLC with Psychic/Medium Brenda Neiburg will be doing a live group reading in Fort Pierre. Cost is $50 per person (cash please)
X-ALT-DESC;FMTTYPE=text/html:Soul Connections\, LLC with Psychic/Medium Brenda Neiburg will be doing a live group reading in Fort Pierre. Cost is $50 per person (cash please)
LOCATION:Chateau 110 Deadwood Street
UID:e.413.39561
SEQUENCE:3
DTSTAMP:20260424T204224Z
URL:https://business.pierre.org/events/details/live-group-reading-39561
END:VEVENT

END:VCALENDAR
