BEGIN:VCALENDAR
VERSION:2.0
PRODID:-//ChamberMaster//Event Calendar 2.0//EN
METHOD:PUBLISH
X-PUBLISHED-TTL:P3D
REFRESH-INTERVAL:P3D
CALSCALE:GREGORIAN
BEGIN:VEVENT
DTSTART:20220814T000000Z
DTEND:20220814T010000Z
X-MICROSOFT-CDO-ALLDAYEVENT:FALSE
SUMMARY:Little Players Presents: Miss Nelson is Missing!
DESCRIPTION:Miss Nelson can't control her crazy classroom because she's just too nice. But when she disappears\, her replacement is the hard-as-nails\, detention-loving\, recess-canceling\, homework-overloading substitute teacher Viola Swamp! With the Big Test approaching\, the kids suddenly realize how much they miss Miss Nelson and they'll do anything including hiring a private eye to solve the mystery of her disappearance and bring her back.
X-ALT-DESC;FMTTYPE=text/html:Miss Nelson can&#39\;t control her crazy classroom because she&#39\;s just too nice. But when she disappears\, her replacement is the hard-as-nails\, detention-loving\, recess-canceling\, homework-overloading substitute teacher Viola Swamp! With the Big Test approaching\, the kids suddenly realize how much they miss Miss Nelson and they&#39\;ll do anything&ndash\;including hiring a private eye&ndash\;to solve the mystery of her disappearance and bring her back.
LOCATION:Grand Opera House 109 S. Pierre Street Pierre\, SD 57501
UID:e.413.36216
SEQUENCE:3
DTSTAMP:20260423T192352Z
URL:https://business.pierre.org/events/details/little-players-presents-miss-nelson-is-missing-08-13-2022-36216
END:VEVENT

END:VCALENDAR
