BEGIN:VCALENDAR
VERSION:2.0
PRODID:-//ChamberMaster//Event Calendar 2.0//EN
METHOD:PUBLISH
X-PUBLISHED-TTL:P3D
REFRESH-INTERVAL:P3D
CALSCALE:GREGORIAN
BEGIN:VEVENT
DTSTART:20211221T000000Z
DTEND:20211221T030000Z
X-MICROSOFT-CDO-ALLDAYEVENT:FALSE
SUMMARY:Light up the Pierre Area 2021
DESCRIPTION:3rd Annual Community Holiday Light Competition. \n\n\n\nSee the best holiday light displays in the Pierre Area. View the map of participating locations\, and then vote for your favorite display on www.pierre.org from December 7-29\, 2021. You can also vote by texting (516) 253-2565\n\nNot able to drive and see the displays? We've got you covered! You can see photos of each display HERE.\n\nDon't forget to vote! \n\n\n\nTo Register your holiday display\, email your name\, address and phone number to contactchamber@pierre.org. Or call the chamber at (605)224-7361. Registration is FREE. Winners in 4 categories receive $100 in Pierre Pride Dollars\, redeemable at all Pierre/Fort Pierre businesses. Winners will be announced on Dec. 30
X-ALT-DESC;FMTTYPE=text/html:3rd Annual Community Holiday Light Competition.&nbsp\;<br />\n<br />\nSee the best holiday light displays in the Pierre Area. <a href="https://www.google.com/maps/d/u/0/edit?mid=1Lk9JZ8cieoAd5RT4n5Wud8IhqmTHnlLS&amp\;usp=sharing">View the map of participating locations</a>\, and then vote for your favorite display on <a href="https://www.tallyspace.com/vote/10304">www.pierre.org</a> from December 7-29\, 2021. You can also vote by texting (516) 253-2565<br />\nNot able to drive and see the displays? We&#39\;ve got you covered! <a href="https://pierreorg-my.sharepoint.com/:b:/g/personal/contactchamber_pierre_org/Ed0gOzlZ2iBKmCBVi7taonUBtSTTANe3snq6mi8TfgX7ow?e=uOR8KF">You can see photos of each display HERE.</a><br />\n<a href="https://www.tallyspace.com/vote/10304">Don&#39\;t forget to vote</a>!&nbsp\;<br />\n<br />\nTo Register your holiday display\, email your name\, address and phone number to contactchamber@pierre.org. Or call the chamber at (605)224-7361. Registration is FREE. Winners in 4 categories receive $100 in Pierre Pride Dollars\, redeemable at all Pierre/Fort Pierre businesses. Winners will be announced on Dec. 30
LOCATION:Pierre and Fort Pierre
UID:e.413.35353
SEQUENCE:3
DTSTAMP:20260423T180013Z
URL:https://business.pierre.org/events/details/light-up-the-pierre-area-2021-12-20-2021-35353
END:VEVENT

END:VCALENDAR
