BEGIN:VCALENDAR
VERSION:2.0
PRODID:-//ChamberMaster//Event Calendar 2.0//EN
METHOD:PUBLISH
X-PUBLISHED-TTL:P3D
REFRESH-INTERVAL:P3D
CALSCALE:GREGORIAN
BEGIN:VEVENT
DTSTART;VALUE=DATE:20220111
DTEND;VALUE=DATE:20220112
TRANSP:TRANSPARENT
X-MICROSOFT-CDO-ALLDAYEVENT:TRUE
SUMMARY:Legislative Welcome 2022
DESCRIPTION:Help welcome Legislators to Pierre with the Pierre Area Chamber of Commerce's "Back to Business" care packages! Packages will be distributed on the first day of the 97th 2022 session\, January 11.\n\n\n\nTo avoid duplicate items\, please contact the Chamber to confirm your chosen item. Please provide the Chamber with 115 items to place in care packages by Dec. 21. (No business cards or flyers will be included)\n\n\n\nSponsorship Options:\n\nCare Package Sponsor: \n\n    For $300\, your business has the opportunity to include one item valued at $3 or less\, and 4" long or smaller for each legislator.\n\nWelcome Sponsor:\n\n    For $500\, your business has the opportunity to include one item valued at $7 or less\, and 9" long or smaller for each legislator.\n\n*Governor Sponsor:\n\n    For $1\,000\, your business has the opportunity to include one item valued at $10 or less\, and 9" long or smaller for each legislator\, and will be included in the specialty gift boxes for the Governor and Lieutenant Governor\n\n*Reserved for Ringneck & Horizon Investors.
X-ALT-DESC;FMTTYPE=text/html:Help welcome Legislators to Pierre with the Pierre Area Chamber of Commerce&#39\;s &quot\;Back to Business&quot\; care packages! Packages will be distributed on the first day of the 97th 2022 session\, January 11.<br />\n<br />\nTo avoid duplicate items\, please contact the Chamber to confirm your chosen item. Please provide the Chamber with 115 items to place in care packages by Dec. 21. (No business cards or flyers will be included)<br />\n<br />\n<u><strong>Sponsorship Options:</strong></u><br />\n<strong>Care Package Sponsor</strong>:&nbsp\;<br />\n&nbsp\; &nbsp\; For $300\, your business has the opportunity to include one item valued at $3 or less\, and 4&quot\; long or smaller for each legislator.<br />\n<strong>Welcome Sponsor:</strong><br />\n&nbsp\; &nbsp\; For $500\, your business has the opportunity to include one item valued at $7 or less\, and 9&quot\; long or smaller for each legislator.<br />\n<strong>*Governor Sponsor:</strong><br />\n&nbsp\; &nbsp\; For $1\,000\, your business has the opportunity to include one item valued at $10 or less\, and 9&quot\; long or smaller for each legislator\, and will be included in the specialty gift boxes for the Governor and Lieutenant Governor<br />\n*Reserved for Ringneck &amp\; Horizon Investors.
LOCATION:Drop off items by Dec. 21 at the Pierre Area Chamber of Commerce\, 800 W Dakota Ave.\; care packages will be delivered to legislators on January 11.
UID:e.413.34458
SEQUENCE:3
DTSTAMP:20260423T112121Z
URL:https://business.pierre.org/events/details/legislative-welcome-2022-34458
END:VEVENT

END:VCALENDAR
