BEGIN:VCALENDAR
VERSION:2.0
PRODID:-//ChamberMaster//Event Calendar 2.0//EN
METHOD:PUBLISH
X-PUBLISHED-TTL:P3D
REFRESH-INTERVAL:P3D
CALSCALE:GREGORIAN
BEGIN:VEVENT
DTSTART:20240318T170000Z
DTEND:20240318T170000Z
X-MICROSOFT-CDO-ALLDAYEVENT:FALSE
SUMMARY:Kid Kare - Virtual Babysitting Clinic (6 Weeks)
DESCRIPTION:Presented by SDSU Extension & 4-H\n\nVirtual Babysitting Clinic March 18-April 29\n\nYouth ages 9 & up can register to participate in 6 weeks of virtual group learning covering important childcare subjects including:\n\n	Fun Activities\n	Nutrition\n	First Aid & Safety\n	Childhood Behaviors\n	Babysitting Success\n\nRegister Online by click the link\, or scanning the QR code. \n\nhttps://form.jotform.com/240165499608162\n\n\n\nThe Kid Kare Program will feature a weekly live presentation\; however\, a recording of each session will be available on demand if participants are unable to join the workshop during the scheduled time.
X-ALT-DESC;FMTTYPE=text/html:Presented by SDSU Extension &amp\; 4-H<br />\nVirtual Babysitting Clinic March 18-April 29<br />\nYouth ages 9 &amp\; up can register to participate in 6 weeks of virtual group learning covering important childcare subjects including:\n<ul>\n	<li>Fun Activities</li>\n	<li>Nutrition</li>\n	<li>First Aid &amp\; Safety</li>\n	<li>Childhood Behaviors</li>\n	<li>Babysitting Success</li>\n</ul>\n<strong>Register Online by click the link\, or scanning the QR code.&nbsp\;</strong><br />\nhttps://form.jotform.com/240165499608162<br />\n<br />\nThe Kid Kare Program will feature a weekly live presentation\; however\, a recording of each session will be available on demand if participants are unable to join the workshop during the scheduled time.
LOCATION:Online
UID:e.413.38792
SEQUENCE:3
DTSTAMP:20260424T172658Z
URL:https://business.pierre.org/events/details/kid-kare-virtual-babysitting-clinic-6-weeks-38792
END:VEVENT

END:VCALENDAR
