BEGIN:VCALENDAR
VERSION:2.0
PRODID:-//ChamberMaster//Event Calendar 2.0//EN
METHOD:PUBLISH
X-PUBLISHED-TTL:P3D
REFRESH-INTERVAL:P3D
CALSCALE:GREGORIAN
BEGIN:VEVENT
DTSTART:20240616T180000Z
DTEND:20240616T190000Z
X-MICROSOFT-CDO-ALLDAYEVENT:FALSE
SUMMARY:Journalism In The Time Of Fake News
DESCRIPTION:Join Tony Mangan as he discusses his experiences as a journalist\, working with the media\, and finding reliable resources. Registration is requested. Register by visiting the circulation desk\, calling 605-773-7421\,  or visiting rawlinslibrary.org/programs-events
X-ALT-DESC;FMTTYPE=text/html:Join Tony Mangan as he discusses his experiences as a journalist\, working with the media\, and finding reliable resources. Registration is requested. Register by visiting the circulation desk\, calling 605-773-7421\,&nbsp\; or visiting <a href="https://rawlinslibrary.org/programs-events/">rawlinslibrary.org/programs-events</a>
LOCATION:Rawlins Library
UID:e.413.39304
SEQUENCE:3
DTSTAMP:20260422T160150Z
URL:https://business.pierre.org/events/details/journalism-in-the-time-of-fake-news-39304
END:VEVENT

END:VCALENDAR
