BEGIN:VCALENDAR
VERSION:2.0
PRODID:-//ChamberMaster//Event Calendar 2.0//EN
METHOD:PUBLISH
X-PUBLISHED-TTL:P3D
REFRESH-INTERVAL:P3D
CALSCALE:GREGORIAN
BEGIN:VEVENT
DTSTART:20200225T010000Z
DTEND:20200225T020000Z
X-MICROSOFT-CDO-ALLDAYEVENT:FALSE
SUMMARY:Jackrabbit Tales
DESCRIPTION:Come hear V.J. Smith of Brookings spin tales about the people\, events and times that have help shaped South Dakota State University in Brookings. Smith is a professional speaker\, former executive director of the SDSU Alumni Association and author of "Jackrabbit Tales." The stories Smith will share will appeal to all\, as they are uplifting stories of people who have made a difference. Everyone is welcome to attend the free program. "Jackrabbit Tales" is sold at the Heritage Store at the Cultural Heritage Center.
X-ALT-DESC;FMTTYPE=text/html:Come hear V.J. Smith of Brookings spin tales about the people\, events and times that have help shaped South Dakota State University in Brookings. Smith is a professional speaker\, former executive director of the SDSU Alumni Association and author of &quot\;Jackrabbit Tales.&quot\; The stories Smith will share will appeal to all\, as they are uplifting stories of people who have made a difference. Everyone is welcome to attend the free program. &quot\;Jackrabbit Tales&quot\; is sold at the Heritage Store at the Cultural Heritage Center.
LOCATION:Cultural Heritage Center 900 Governors Dr
UID:e.413.30114
SEQUENCE:3
DTSTAMP:20260424T135748Z
URL:https://business.pierre.org/events/details/jackrabbit-tales-30114
END:VEVENT

END:VCALENDAR
