BEGIN:VCALENDAR
VERSION:2.0
PRODID:-//ChamberMaster//Event Calendar 2.0//EN
METHOD:PUBLISH
X-PUBLISHED-TTL:P3D
REFRESH-INTERVAL:P3D
CALSCALE:GREGORIAN
BEGIN:VEVENT
DTSTART:20240919T173000Z
DTEND:20240919T183000Z
X-MICROSOFT-CDO-ALLDAYEVENT:FALSE
SUMMARY:Insurance 101 - South Dakota Department of Regulation
DESCRIPTION:Insurance policies can be confusing. Don't let the uncertainty of fine print keep you and your family from getting the coverage you need. This course covers the nuts and bolts of auto\, home\, health\, life\, and disability insurance\, including tips on comparing insurance companies\, agents\, and policies. \n\n\n\nRegistration required. Go to this link \, and click on the event to register.
X-ALT-DESC;FMTTYPE=text/html:Insurance policies can be confusing. Don&#39\;t let the uncertainty of fine print keep you and your family from getting the coverage you need. This course covers the nuts and bolts of auto\, home\, health\, life\, and disability insurance\, including tips on comparing insurance companies\, agents\, and policies.&nbsp\;<br />\n<br />\nRegistration required. Go to this <a href="https://www.sd.gov/cs?id=calendar_events&amp\;calendar_id=c4ac1e241bda19101c4fa97ae54bcbba&amp\;fbclid=IwY2xjawFVVGRleHRuA2FlbQIxMAABHf7PhSYQbxjs6FrRUzyka2ZalRU1k869R81p11S7-_e3yKLkUovpEV1iTA_aem_S9nkUTnq1FolBoTyYGzh_Q">link </a>\, and click on the event to register.&nbsp\;
LOCATION:Online
UID:e.413.40050
SEQUENCE:3
DTSTAMP:20260419T191240Z
URL:https://business.pierre.org/events/details/insurance-101-south-dkaota-department-of-regulation-40050
END:VEVENT

END:VCALENDAR
