BEGIN:VCALENDAR
VERSION:2.0
PRODID:-//ChamberMaster//Event Calendar 2.0//EN
METHOD:PUBLISH
X-PUBLISHED-TTL:P3D
REFRESH-INTERVAL:P3D
CALSCALE:GREGORIAN
BEGIN:VEVENT
DTSTART:20241109T000000Z
DTEND:20241109T010000Z
X-MICROSOFT-CDO-ALLDAYEVENT:FALSE
SUMMARY:In my Girl Scout Era Party - Pierre\, SD
DESCRIPTION:Making friend\, testing her strengths\, overcoming new obstacles - the possibilities are endless during her Girl Scout Era!\n\n\n\nWe invite all non-Girl Scout members to join us for our In My Girl Scout Era Party! Your girl will make friendship bracelets\, decorate a guitar\, and pose for her album cover to celebrate Girl Scout Alum Taylor Swift.\n\n\n\nOpen to ages k-12. This event is an open house style for you to attend as your schedule allows. This is not a drop-off event. An adult must attend with a girl.
X-ALT-DESC;FMTTYPE=text/html:Making friend\, testing her strengths\, overcoming new obstacles - the possibilities are endless during her Girl Scout Era!<br />\n<br />\nWe invite all non-Girl Scout members to join us for our In My Girl Scout Era Party! Your girl will make friendship bracelets\, decorate a guitar\, and pose for her album cover to celebrate Girl Scout Alum Taylor Swift.<br />\n<br />\nOpen to ages k-12. This event is an open house style for you to attend as your schedule allows. This is not a drop-off event. An adult must attend with a girl.&nbsp\;
LOCATION:Kennedy Elementary School 2306 Brookstone Loop\, Pierre
UID:e.413.40049
SEQUENCE:3
DTSTAMP:20260425T182319Z
URL:https://business.pierre.org/events/details/in-my-girl-scout-era-party-pierre-sd-40049
END:VEVENT

END:VCALENDAR
