BEGIN:VCALENDAR
VERSION:2.0
PRODID:-//ChamberMaster//Event Calendar 2.0//EN
METHOD:PUBLISH
X-PUBLISHED-TTL:P3D
REFRESH-INTERVAL:P3D
CALSCALE:GREGORIAN
BEGIN:VEVENT
DTSTART:20191019T150000Z
DTEND:20191020T230000Z
X-MICROSOFT-CDO-ALLDAYEVENT:FALSE
SUMMARY:Hunters Wives Weekend at Northridge Plaza
DESCRIPTION:Grab your Bestie and come to the mall for a day of fun. There will be a Vendor Event plus Fashion Shows and Cooking Demo's throughout the day on Saturday.
X-ALT-DESC;FMTTYPE=text/html:Grab your Bestie and come to the mall for a day of fun. There will be a Vendor Event plus Fashion Shows and Cooking Demo&#39\;s throughout the day on Saturday.
LOCATION:Northridge Plaza 1615 N. Harrison Avenue Pierre\, SD 57501
UID:e.413.29061
SEQUENCE:3
DTSTAMP:20260424T090213Z
URL:https://business.pierre.org/events/details/hunters-wives-weekend-at-northridge-plaza-29061
END:VEVENT

END:VCALENDAR
