BEGIN:VCALENDAR
VERSION:2.0
PRODID:-//ChamberMaster//Event Calendar 2.0//EN
METHOD:PUBLISH
X-PUBLISHED-TTL:P3D
REFRESH-INTERVAL:P3D
CALSCALE:GREGORIAN
BEGIN:VEVENT
DTSTART:20221013T213000Z
DTEND:20221014T020000Z
X-MICROSOFT-CDO-ALLDAYEVENT:FALSE
SUMMARY:HS Volleyball
DESCRIPTION:9th/JV/10th/V Volleyball vs. Yankton (Dig Pink Night)
X-ALT-DESC;FMTTYPE=text/html:9th/JV/10th/V Volleyball vs. Yankton (Dig Pink Night)
LOCATION:Riggs High School
UID:e.413.36310
SEQUENCE:3
DTSTAMP:20260420T234143Z
URL:https://business.pierre.org/events/details/hs-volleyball-10-13-2022-36310
END:VEVENT

END:VCALENDAR
