BEGIN:VCALENDAR
VERSION:2.0
PRODID:-//ChamberMaster//Event Calendar 2.0//EN
METHOD:PUBLISH
X-PUBLISHED-TTL:P3D
REFRESH-INTERVAL:P3D
CALSCALE:GREGORIAN
BEGIN:VEVENT
DTSTART:20220108T190000Z
DTEND:20220109T010000Z
X-MICROSOFT-CDO-ALLDAYEVENT:FALSE
SUMMARY:HS Girls Basketball
DESCRIPTION:9th/JV/10th/V Girls Basketball vs. Sioux Falls Washington (Pink Night)
X-ALT-DESC;FMTTYPE=text/html:9th/JV/10th/V Girls Basketball vs. Sioux Falls Washington (Pink Night)
LOCATION:Riggs High School
UID:e.413.35374
SEQUENCE:3
DTSTAMP:20260423T164900Z
URL:https://business.pierre.org/events/details/hs-girls-basketball-35374
END:VEVENT

END:VCALENDAR
