BEGIN:VCALENDAR
VERSION:2.0
PRODID:-//ChamberMaster//Event Calendar 2.0//EN
METHOD:PUBLISH
X-PUBLISHED-TTL:P3D
REFRESH-INTERVAL:P3D
CALSCALE:GREGORIAN
BEGIN:VEVENT
DTSTART:20211027T000000Z
DTEND:20211027T013000Z
X-MICROSOFT-CDO-ALLDAYEVENT:FALSE
SUMMARY:History Trivia Night
DESCRIPTION:The State Archives is hosting its first virtual edition of History Trivia Night. Gather your friends and join us for some fun South Dakota and U.S. history trivia. Spaces are limited\; visit the State Archives' website to reserve your spot.
X-ALT-DESC;FMTTYPE=text/html:The State Archives is hosting its first virtual edition of History Trivia Night. Gather your friends and join us for some fun South Dakota and U.S. history trivia. Spaces are limited\; visit the State Archives&#39\; website to reserve your spot.
LOCATION:Virtual event
UID:e.413.34989
SEQUENCE:3
DTSTAMP:20260423T113539Z
URL:https://business.pierre.org/events/details/history-trivia-night-10-26-2021-34989
END:VEVENT

END:VCALENDAR
