BEGIN:VCALENDAR
VERSION:2.0
PRODID:-//ChamberMaster//Event Calendar 2.0//EN
METHOD:PUBLISH
X-PUBLISHED-TTL:P3D
REFRESH-INTERVAL:P3D
CALSCALE:GREGORIAN
BEGIN:VEVENT
DTSTART:20221027T210000Z
DTEND:20221027T230000Z
X-MICROSOFT-CDO-ALLDAYEVENT:FALSE
SUMMARY:Hero Grand ReOpening
DESCRIPTION:5 Year Anniversary - Grand ReOpening of the Revamped Hero Gym \n\nFood and Drink Provided\n\nDrawings for Merchandise\, Products\, Memberships & Infrared Sauna Passes
X-ALT-DESC;FMTTYPE=text/html:5 Year Anniversary - Grand ReOpening of the Revamped Hero Gym \n\nFood and Drink Provided\n\nDrawings for Merchandise\, Products\, Memberships &amp\; Infrared Sauna Passes 
LOCATION:Hero Gym
UID:e.413.36347
SEQUENCE:3
DTSTAMP:20260425T161943Z
URL:https://business.pierre.org/events/details/hero-grand-reopening-36347
END:VEVENT

END:VCALENDAR
