BEGIN:VCALENDAR
VERSION:2.0
PRODID:-//ChamberMaster//Event Calendar 2.0//EN
METHOD:PUBLISH
X-PUBLISHED-TTL:P3D
REFRESH-INTERVAL:P3D
CALSCALE:GREGORIAN
BEGIN:VEVENT
DTSTART:20211030T130000Z
DTEND:20211030T160000Z
X-MICROSOFT-CDO-ALLDAYEVENT:FALSE
SUMMARY:Haunted Doggie Hustle
DESCRIPTION:Come join us for the first Haunted Doggie Hustle\, a 1 mile kids & 5k costume run/walk! All proceeds will be used to create a fence for the Pierre Community Dog Park! Dogs on leashes and in costume are welcome to participate. Don't forget supplies to clean up after your pet!!\n\nEnjoy some ticks & treats after the race!\n\nRegistration opens at 8:00 AM\, adult race begins at 9:00 AM\, and kids race begins at 10:00 AM at the Pierre Area Chamber of Commerce.\n\nWe are looking for volunteers to help out with this event. If interested text or call Paige at 480.677.9262
X-ALT-DESC;FMTTYPE=text/html:<p>Come join us for the first Haunted Doggie Hustle\, a 1 mile kids &amp\; 5k costume run/walk! All proceeds will be used to create a fence for the Pierre Community Dog Park! Dogs on leashes and in costume are welcome to participate. Don&#39\;t forget supplies to clean up after your pet!!<br />\nEnjoy some ticks &amp\; treats after the race!<br />\nRegistration opens at 8:00 AM\, adult race begins at 9:00 AM\, and kids race begins at 10:00 AM at the Pierre Area Chamber of Commerce.<br />\nWe are looking for volunteers to help out with this event. If interested text or call Paige at 480.677.9262</p>\n
LOCATION:Pierre Area Chamber of Commerce\, 800 W Dakota Ave
UID:e.413.34978
SEQUENCE:3
DTSTAMP:20260422T172020Z
URL:https://business.pierre.org/events/details/haunted-doggie-hustle-34978
END:VEVENT

END:VCALENDAR
