BEGIN:VCALENDAR
VERSION:2.0
PRODID:-//ChamberMaster//Event Calendar 2.0//EN
METHOD:PUBLISH
X-PUBLISHED-TTL:P3D
REFRESH-INTERVAL:P3D
CALSCALE:GREGORIAN
BEGIN:VEVENT
DTSTART:20211124T013000Z
DTEND:20211124T023000Z
X-MICROSOFT-CDO-ALLDAYEVENT:FALSE
SUMMARY:Grand Lighting Ceremony - Christmas At the Capitol
DESCRIPTION:Grand Lighting Ceremony for the 2021 Christmas at the Capitol display 'Winter Wishes'\, will be on Tuesday\, Nov. 23 at 7:30 PM. Governor Noem and special guests will entertain those in attendance and kickoff the 2021 holiday display!\n\n\n\nAs always\, a special guest from "up North" will make an appearance at the end of the evening. Children can write their letters to Santa at home then bring them to the 1st floor of the Capitol and place them in the "Letters to Santa" mailbox (no postage required)\, where they will be delivered to the North Pole before Christmas by special little helpers.
X-ALT-DESC;FMTTYPE=text/html:Grand Lighting Ceremony for the 2021 Christmas at the Capitol display &#39\;Winter Wishes&#39\;\, will be on Tuesday\, Nov. 23 at 7:30 PM. Governor Noem and special guests will entertain those in attendance and kickoff the 2021 holiday display!<br />\n<br />\nAs always\, a special guest from &quot\;up North&quot\; will make an appearance at the end of the evening. Children can write their letters to Santa at home then bring them to the 1st floor of the Capitol and place them in the &quot\;Letters to Santa&quot\; mailbox (no postage required)\, where they will be delivered to the North Pole before Christmas by special little helpers.&nbsp\;
LOCATION:South Dakota Capitol
UID:e.413.34987
SEQUENCE:3
DTSTAMP:20260423T114147Z
URL:https://business.pierre.org/events/details/grand-lighting-ceremony-christmas-at-the-capitol-34987
END:VEVENT

END:VCALENDAR
