BEGIN:VCALENDAR
VERSION:2.0
PRODID:-//ChamberMaster//Event Calendar 2.0//EN
METHOD:PUBLISH
X-PUBLISHED-TTL:P3D
REFRESH-INTERVAL:P3D
CALSCALE:GREGORIAN
BEGIN:VEVENT
DTSTART:20240629T150000Z
DTEND:20240629T190000Z
X-MICROSOFT-CDO-ALLDAYEVENT:FALSE
SUMMARY:Glamour & Glow: 4th of July Edition
DESCRIPTION:Join us for Permanent Jewelry\, Ear Piercings\, Spray Tans with Kimberly\, while browsing through Mandy's skin care line and sampling her "happy juice"! We can't think of a better way to get ready for the 4th of July festivities than this!
X-ALT-DESC;FMTTYPE=text/html:Join us for Permanent Jewelry\, Ear Piercings\, Spray Tans with Kimberly\, while browsing through Mandy&#39\;s skin care line and sampling her &quot\;happy juice&quot\;! We can&#39\;t think of a better way to get ready for the 4th of July festivities than this!&nbsp\;
LOCATION:1601 N Harrison Avenue\, Suite 6
UID:e.413.39472
SEQUENCE:3
DTSTAMP:20260425T183921Z
URL:https://business.pierre.org/events/details/glamour-glow-4th-of-july-edition-39472
END:VEVENT

END:VCALENDAR
