BEGIN:VCALENDAR
VERSION:2.0
PRODID:-//ChamberMaster//Event Calendar 2.0//EN
METHOD:PUBLISH
X-PUBLISHED-TTL:P3D
REFRESH-INTERVAL:P3D
CALSCALE:GREGORIAN
BEGIN:VEVENT
DTSTART:20211210T220000Z
DTEND:20211211T023000Z
X-MICROSOFT-CDO-ALLDAYEVENT:FALSE
SUMMARY:Girls High School Basketball
DESCRIPTION:9th/JV/10th/V Girls Basketball vs. Rapid City Stevens
X-ALT-DESC;FMTTYPE=text/html:9th/JV/10th/V Girls Basketball vs. Rapid City Stevens
LOCATION:Riggs High School
UID:e.413.35235
SEQUENCE:3
DTSTAMP:20260420T161557Z
URL:https://business.pierre.org/events/details/girls-high-school-basketball-12-10-2021-35235
END:VEVENT

END:VCALENDAR
