BEGIN:VCALENDAR
VERSION:2.0
PRODID:-//ChamberMaster//Event Calendar 2.0//EN
METHOD:PUBLISH
X-PUBLISHED-TTL:P3D
REFRESH-INTERVAL:P3D
CALSCALE:GREGORIAN
BEGIN:VEVENT
DTSTART:20231125T160000Z
DTEND:20231125T200000Z
X-MICROSOFT-CDO-ALLDAYEVENT:FALSE
SUMMARY:Gift Wrapping - A Fundraiser for Little Learners Preschool
DESCRIPTION:Gift Wrapping Fundraiser for Little Learners Preschool! Also accepting Angel Tree gifts\, we will wrap and deliver them!
X-ALT-DESC;FMTTYPE=text/html:Gift Wrapping Fundraiser for Little Learners Preschool! Also accepting Angel Tree gifts\, we will wrap and deliver them!&nbsp\;
LOCATION:Kris's Glam Closet
UID:e.413.37927
SEQUENCE:3
DTSTAMP:20260422T040716Z
URL:https://business.pierre.org/events/details/gift-wrapping-a-fundraiser-for-little-learners-preschool-37927
END:VEVENT

END:VCALENDAR
