BEGIN:VCALENDAR
VERSION:2.0
PRODID:-//ChamberMaster//Event Calendar 2.0//EN
METHOD:PUBLISH
X-PUBLISHED-TTL:P3D
REFRESH-INTERVAL:P3D
CALSCALE:GREGORIAN
BEGIN:VEVENT
DTSTART:20191002T200000Z
DTEND:20191003T000000Z
X-MICROSOFT-CDO-ALLDAYEVENT:FALSE
SUMMARY:GED Class
DESCRIPTION:GED Classes at the Right Turn on Mondays and Wednesdays from 3:00 - 7:00 PM
X-ALT-DESC;FMTTYPE=text/html:GED Classes at the Right Turn on Mondays and Wednesdays from 3:00 - 7:00 PM
LOCATION:The Right Turn\, 115 E. Sioux Ave.
UID:e.413.28973
SEQUENCE:3
DTSTAMP:20260421T152003Z
URL:https://business.pierre.org/events/details/ged-class-28973
END:VEVENT

END:VCALENDAR
