BEGIN:VCALENDAR
VERSION:2.0
PRODID:-//ChamberMaster//Event Calendar 2.0//EN
METHOD:PUBLISH
X-PUBLISHED-TTL:P3D
REFRESH-INTERVAL:P3D
CALSCALE:GREGORIAN
BEGIN:VEVENT
DTSTART:20241116T160000Z
DTEND:20241116T220000Z
X-MICROSOFT-CDO-ALLDAYEVENT:FALSE
SUMMARY:Friendsgiving Event - Kris Glam Closet
DESCRIPTION:Come enjoy charcuterie\, champagne\, & community with our Friendsgiving Event at Kris' Glam Closet Boutique! We are so THANKFUL for our customers and look forward to sharing our appreciation! There will be an exclusive discount for guests who attend.
X-ALT-DESC;FMTTYPE=text/html:<span style="color: rgb(5\, 5\, 5)\; font-family: &quot\;Segoe UI Historic&quot\;\, &quot\;Segoe UI&quot\;\, Helvetica\, Arial\, sans-serif\; font-size: 15px\;">Come enjoy charcuterie\, champagne\, &amp\; community with our Friendsgiving Event at Kris&rsquo\; Glam Closet Boutique! We are so THANKFUL for our customers and look forward to sharing our appreciation! There will be an exclusive discount for guests who attend.</span>
LOCATION:Kris' Glam Closet Boutique 308 S. Pierre Street
UID:e.413.40268
SEQUENCE:3
DTSTAMP:20260424T182004Z
URL:https://business.pierre.org/events/details/friendsgiving-event-kris-glam-closet-40268
END:VEVENT

END:VCALENDAR
