BEGIN:VCALENDAR
VERSION:2.0
PRODID:-//ChamberMaster//Event Calendar 2.0//EN
METHOD:PUBLISH
X-PUBLISHED-TTL:P3D
REFRESH-INTERVAL:P3D
CALSCALE:GREGORIAN
BEGIN:VEVENT
DTSTART:20230902T140000Z
DTEND:20230902T220000Z
X-MICROSOFT-CDO-ALLDAYEVENT:FALSE
SUMMARY:Free Vendor Event
DESCRIPTION:Free Vendor Event \n\nOutside set up! Bring your own displays!
X-ALT-DESC;FMTTYPE=text/html:Free Vendor Event&nbsp\;<br />\nOutside set up! Bring your own displays!
LOCATION:The Alley 401 S Pierre Street Pierre SD\, 57501
UID:e.413.37237
SEQUENCE:3
DTSTAMP:20260424T160739Z
URL:https://business.pierre.org/events/details/free-vendor-event-37237
END:VEVENT

END:VCALENDAR
