BEGIN:VCALENDAR
VERSION:2.0
PRODID:-//ChamberMaster//Event Calendar 2.0//EN
METHOD:PUBLISH
X-PUBLISHED-TTL:P3D
REFRESH-INTERVAL:P3D
CALSCALE:GREGORIAN
BEGIN:VEVENT
DTSTART:20220602T223000Z
DTEND:20220603T010000Z
X-MICROSOFT-CDO-ALLDAYEVENT:FALSE
SUMMARY:Fort Pierre First Thursday Event Series
DESCRIPTION:Join all summer long at our Fort Pierre First Thursday events! These events will take place every first Thursday of the month\, June - October! They will be filled with live music\, kid activities\, a variety of local vendors\, and so much MORE! Free to attend.
X-ALT-DESC;FMTTYPE=text/html:Join all summer long at our Fort Pierre First Thursday events! These events will take place every first Thursday of the month\, June - October! They will be filled with live music\, kid activities\, a variety of local vendors\, and so much MORE! Free to attend.
LOCATION:Fischers Lilly Park 415 Ash Avenue Fort Pierre\, SD 57532
UID:e.413.35613
SEQUENCE:3
DTSTAMP:20260420T025230Z
URL:https://business.pierre.org/events/details/fort-pierre-first-thursday-event-series-35613
END:VEVENT

END:VCALENDAR
