BEGIN:VCALENDAR
VERSION:2.0
PRODID:-//ChamberMaster//Event Calendar 2.0//EN
METHOD:PUBLISH
X-PUBLISHED-TTL:P3D
REFRESH-INTERVAL:P3D
CALSCALE:GREGORIAN
BEGIN:VEVENT
DTSTART:20210713T230000Z
DTEND:20210714T003000Z
X-MICROSOFT-CDO-ALLDAYEVENT:FALSE
SUMMARY:Fire Hydrant Party
DESCRIPTION:Join the City of Pierre Parks & Recreation Department\, and the Pierre Fire Department at the 1400 block of East Franklin for a fire hydrant party!
X-ALT-DESC;FMTTYPE=text/html:Join the City of Pierre Parks &amp\; Recreation Department\, and the Pierre Fire Department at the 1400 block of East Franklin for a fire hydrant party!
LOCATION:1400 block of East Franklin
UID:e.413.34463
SEQUENCE:3
DTSTAMP:20260421T015432Z
URL:https://business.pierre.org/events/details/fire-hydrant-party-34463
END:VEVENT

END:VCALENDAR
