BEGIN:VCALENDAR
VERSION:2.0
PRODID:-//ChamberMaster//Event Calendar 2.0//EN
METHOD:PUBLISH
X-PUBLISHED-TTL:P3D
REFRESH-INTERVAL:P3D
CALSCALE:GREGORIAN
BEGIN:VEVENT
DTSTART:20240204T000000Z
DTEND:20240204T020000Z
X-MICROSOFT-CDO-ALLDAYEVENT:FALSE
SUMMARY:Father Daughter Dance - Gov To Gov
DESCRIPTION:Tickets are available at The Alley Exchange and Say What Designs. Tickets will also be sold at the door while they last. There are a limited number of tickets. For more information email teresa.L.johnson@k12.sd.us\n\nThe dance is for girls in kindergarten through 5th grade and their dads (or moms\, grandpas\, uncles\, or other role models in their life.
X-ALT-DESC;FMTTYPE=text/html:Tickets are available at The Alley Exchange and Say What Designs. Tickets will also be sold at the door while they last. There are a limited number of tickets. For more information email teresa.L.johnson@k12.sd.us<br />\nThe dance is for girls in kindergarten through 5th grade and their dads (or moms\, grandpas\, uncles\, or other role models in their life.&nbsp\;
LOCATION:Riggs High School
UID:e.413.38629
SEQUENCE:3
DTSTAMP:20260425T164354Z
URL:https://business.pierre.org/events/details/father-daughter-dance-gov-to-gov-38629
END:VEVENT

END:VCALENDAR
