BEGIN:VCALENDAR
VERSION:2.0
PRODID:-//ChamberMaster//Event Calendar 2.0//EN
METHOD:PUBLISH
X-PUBLISHED-TTL:P3D
REFRESH-INTERVAL:P3D
CALSCALE:GREGORIAN
BEGIN:VEVENT
DTSTART:20171014T150000Z
DTEND:20171014T163000Z
X-MICROSOFT-CDO-ALLDAYEVENT:FALSE
SUMMARY:Family Fun Day - Fabulous Pheasants
DESCRIPTION:Make a new pinecone pheasant friend. Supplies will be provided. All ages are welcome and young children should be accompanied by an adult.
X-ALT-DESC;FMTTYPE=text/html:Make a new pinecone pheasant friend. Supplies will be provided. All ages are welcome and young children should be accompanied by an adult.
LOCATION:Cultural Heritage Center - 900 Governors Dr.
UID:e.413.24231
SEQUENCE:3
DTSTAMP:20260424T143131Z
URL:https://business.pierre.org/events/details/family-fun-day-fabulous-pheasants-24231
END:VEVENT

END:VCALENDAR
