BEGIN:VCALENDAR
VERSION:2.0
PRODID:-//ChamberMaster//Event Calendar 2.0//EN
METHOD:PUBLISH
X-PUBLISHED-TTL:P3D
REFRESH-INTERVAL:P3D
CALSCALE:GREGORIAN
BEGIN:VEVENT
DTSTART:20241115T163000Z
DTEND:20241115T173000Z
X-MICROSOFT-CDO-ALLDAYEVENT:FALSE
SUMMARY:Fall Walking Group - SDUIH & SDSU Extension
DESCRIPTION:The SDUIH & SDSU Extension Walking Group is back for fall! Starting October 4th\, we'll meet every Monday and Friday from 10:30 - 11:30 AM. Plan to meet at the SDUIH Clinic (339 S. Pierre St.)\, and when it gets too chilly\, we'll move indoors to the new YMCA! The group runs from October 4-December 2. Transportation available upon request.\n\nWe are limited to 14 spots\, so call today to reserve yours! 605-224-8841. Open to all fitness levels!
X-ALT-DESC;FMTTYPE=text/html:The SDUIH &amp\; SDSU Extension Walking Group is back for fall! Starting October 4th\, we&#39\;ll meet every Monday and Friday from 10:30 - 11:30 AM. Plan to meet at the SDUIH Clinic (339 S. Pierre St.)\, and when it gets too chilly\, we&#39\;ll move indoors to the new YMCA! The group runs from October 4-December 2. Transportation available upon request.<br />\nWe are limited to 14 spots\, so call today to reserve yours! 605-224-8841. Open to all fitness levels!&nbsp\;
LOCATION:Meeting at SDUIH Clinic\, 339 S. Pierre street. When it gets too chilly\, walking will be at the YMCA.
UID:e.413.40098
SEQUENCE:3
DTSTAMP:20260421T092836Z
URL:https://business.pierre.org/events/details/fall-walking-group-sduih-sdsu-extension-11-15-2024-40098
END:VEVENT

END:VCALENDAR
