BEGIN:VCALENDAR
VERSION:2.0
PRODID:-//ChamberMaster//Event Calendar 2.0//EN
METHOD:PUBLISH
X-PUBLISHED-TTL:P3D
REFRESH-INTERVAL:P3D
CALSCALE:GREGORIAN
BEGIN:VEVENT
DTSTART:20260422T160000Z
DTEND:20260422T160000Z
X-MICROSOFT-CDO-ALLDAYEVENT:FALSE
SUMMARY:Euclid Construction Weekly Meeting
DESCRIPTION:Join us on Wednesday\, April 22\, 2026 at 11:00 AM at the AGC Building (300 E Capitol Ave\, Suite 1\, Pierre\, SD) for our Weekly Public Meeting about the Euclid Avenue Reconstruction Project.\n\n \n\n\n\nThese meetings are open to everyone and provide updates\, timelines\, and space for your input. Stop by to stay informed and involved in this important community project!
X-ALT-DESC;FMTTYPE=text/html:<div class="x14z9mp xat24cr x1lziwak x1vvkbs xtlvy1s x126k92a" style="white-space: pre-wrap\; margin-inline: 0px\; overflow-wrap: break-word\; margin-bottom: 0px\; margin-top: 0.5em\; font-family: &quot\;Segoe UI Historic&quot\;\, &quot\;Segoe UI&quot\;\, Helvetica\, Arial\, sans-serif\; color: rgb(8\, 8\, 9)\; font-size: 14.0625px\;">\n<div dir="auto" style="font-family: inherit\;">Join us on Wednesday\, April 22\, 2026 at 11:00 AM at the AGC Building (300 E Capitol Ave\, Suite 1\, Pierre\, SD) for our Weekly Public Meeting about the Euclid Avenue Reconstruction Project.<br />\n&nbsp\;</div>\n</div>\n\n<div class="x14z9mp xat24cr x1lziwak x1vvkbs xtlvy1s x126k92a" style="white-space: pre-wrap\; margin-inline: 0px\; overflow-wrap: break-word\; margin-bottom: 0px\; margin-top: 0.5em\; font-family: &quot\;Segoe UI Historic&quot\;\, &quot\;Segoe UI&quot\;\, Helvetica\, Arial\, sans-serif\; color: rgb(8\, 8\, 9)\; font-size: 14.0625px\;">\n<div dir="auto" style="font-family: inherit\;">These meetings are open to everyone and provide updates\, timelines\, and space for your input. Stop by to stay informed and involved in this important community project!<br />\n&nbsp\;</div>\n</div>\n
LOCATION:AGC Building 300 E. Capitol Avenue\, Ste: 1\, Pierre
UID:e.413.44739
SEQUENCE:3
DTSTAMP:20260421T185250Z
URL:https://business.pierre.org/events/details/euclid-construction-weekly-meeting-44739
END:VEVENT

END:VCALENDAR
