BEGIN:VCALENDAR
VERSION:2.0
PRODID:-//ChamberMaster//Event Calendar 2.0//EN
METHOD:PUBLISH
X-PUBLISHED-TTL:P3D
REFRESH-INTERVAL:P3D
CALSCALE:GREGORIAN
BEGIN:VEVENT
DTSTART:20200505T233000Z
DTEND:20200506T010000Z
X-MICROSOFT-CDO-ALLDAYEVENT:FALSE
SUMMARY:Early Childhood Training - Online - Sanford Harmony
DESCRIPTION:Explore Sanford Harmony\, a program that helps children develop strong social and emotional skills.
X-ALT-DESC;FMTTYPE=text/html:Explore Sanford Harmony\, a program that helps children develop strong social and emotional skills.
LOCATION:Online with The Right Turn
UID:e.413.31837
SEQUENCE:3
DTSTAMP:20260420T194034Z
URL:https://business.pierre.org/events/details/early-childhood-training-online-sanford-harmony-31837
END:VEVENT

END:VCALENDAR
