BEGIN:VCALENDAR
VERSION:2.0
PRODID:-//ChamberMaster//Event Calendar 2.0//EN
METHOD:PUBLISH
X-PUBLISHED-TTL:P3D
REFRESH-INTERVAL:P3D
CALSCALE:GREGORIAN
BEGIN:VEVENT
DTSTART:20200529T180000Z
DTEND:20200529T193000Z
X-MICROSOFT-CDO-ALLDAYEVENT:FALSE
SUMMARY:Early Childhood Training - Online - Inclusion
DESCRIPTION:Learn about resources and strategies for working with children who have disabilities.
X-ALT-DESC;FMTTYPE=text/html:Learn about resources and strategies for working with children who have disabilities.
LOCATION:Online with The Right Turn
UID:e.413.31848
SEQUENCE:3
DTSTAMP:20260424T230000Z
URL:https://business.pierre.org/events/details/early-childhood-training-online-inclusion-05-29-2020-31848
END:VEVENT

END:VCALENDAR
