BEGIN:VCALENDAR
VERSION:2.0
PRODID:-//ChamberMaster//Event Calendar 2.0//EN
METHOD:PUBLISH
X-PUBLISHED-TTL:P3D
REFRESH-INTERVAL:P3D
CALSCALE:GREGORIAN
BEGIN:VEVENT
DTSTART:20200502T180000Z
DTEND:20200502T193000Z
X-MICROSOFT-CDO-ALLDAYEVENT:FALSE
SUMMARY:Early Childhood Training - Online- Cultural Diversity Activities
DESCRIPTION:Learn how to celebrate cultural differences and develop a "Diversity Wall" for your child care program.
X-ALT-DESC;FMTTYPE=text/html:Learn how to celebrate cultural differences and develop a &ldquo\;Diversity Wall&rdquo\; for your child care program.
LOCATION:Online with The Right Turn
UID:e.413.31835
SEQUENCE:3
DTSTAMP:20260424T171243Z
URL:https://business.pierre.org/events/details/early-childhood-training-online-cultural-diversity-activities-31835
END:VEVENT

END:VCALENDAR
