BEGIN:VCALENDAR
VERSION:2.0
PRODID:-//ChamberMaster//Event Calendar 2.0//EN
METHOD:PUBLISH
X-PUBLISHED-TTL:P3D
REFRESH-INTERVAL:P3D
CALSCALE:GREGORIAN
BEGIN:VEVENT
DTSTART:20200111T150000Z
DTEND:20200111T163000Z
X-MICROSOFT-CDO-ALLDAYEVENT:FALSE
SUMMARY:Early Childhood Training
DESCRIPTION:Early Brain Development - Participants will learn about early brain development and gain skills for supporting positive growth\, utilizing the Brain Architecture Game.
X-ALT-DESC;FMTTYPE=text/html:Early Brain Development - Participants will learn about early brain development and gain skills for supporting positive growth\, utilizing the Brain Architecture Game.
LOCATION:The Right Turn 115 E. Sioux - Pierre\, SD
UID:e.413.29484
SEQUENCE:3
DTSTAMP:20260422T124637Z
URL:https://business.pierre.org/events/details/early-childhood-training-29484
END:VEVENT

END:VCALENDAR
