BEGIN:VCALENDAR
VERSION:2.0
PRODID:-//ChamberMaster//Event Calendar 2.0//EN
METHOD:PUBLISH
X-PUBLISHED-TTL:P3D
REFRESH-INTERVAL:P3D
CALSCALE:GREGORIAN
BEGIN:VEVENT
DTSTART:20210217T120000Z
DTEND:20210217T130000Z
X-MICROSOFT-CDO-ALLDAYEVENT:FALSE
SUMMARY:Early Bird Importance of Relationships
DESCRIPTION:Learning why relationships are imporatant in both parent and child.
X-ALT-DESC;FMTTYPE=text/html:Learning why relationships are imporatant in both parent and child.
LOCATION:Online with The Right Turn
UID:e.413.33648
SEQUENCE:3
DTSTAMP:20260423T100947Z
URL:https://business.pierre.org/events/details/early-bird-importance-of-relationships-33648
END:VEVENT

END:VCALENDAR
