BEGIN:VCALENDAR
VERSION:2.0
PRODID:-//ChamberMaster//Event Calendar 2.0//EN
METHOD:PUBLISH
X-PUBLISHED-TTL:P3D
REFRESH-INTERVAL:P3D
CALSCALE:GREGORIAN
BEGIN:VEVENT
DTSTART:20220916T223000Z
DTEND:20220917T000000Z
X-MICROSOFT-CDO-ALLDAYEVENT:FALSE
SUMMARY:Discovery on Tap
DESCRIPTION:Martian World Craig De Tample guides an exploration of the red planet Mars.
X-ALT-DESC;FMTTYPE=text/html:Martian World Craig De Tample guides an exploration of the red planet Mars.
LOCATION:St. Charles Lounge 207 E Capitol Ave #109 Pierre\, SD 57501
UID:e.413.36231
SEQUENCE:3
DTSTAMP:20260419T164256Z
URL:https://business.pierre.org/events/details/discovery-on-tap-09-16-2022-36231
END:VEVENT

END:VCALENDAR
