BEGIN:VCALENDAR
VERSION:2.0
PRODID:-//ChamberMaster//Event Calendar 2.0//EN
METHOD:PUBLISH
X-PUBLISHED-TTL:P3D
REFRESH-INTERVAL:P3D
CALSCALE:GREGORIAN
BEGIN:VEVENT
DTSTART:20211026T163000Z
DTEND:20211026T230000Z
X-MICROSOFT-CDO-ALLDAYEVENT:FALSE
SUMMARY:Discovery Center Open House
DESCRIPTION:Thanks to you the SD Discovery Center has been in our community for over 30 years! We are proud of what we have done here at the SD Discovery Center since its founding in 1989. We are a jewel in our community\, and we make a difference every day with your help. But now\, it is time to look to the future. Learn more about the the Center and tour the facility Learn about the new facility and programming needs Discuss concept development and site location options Ask questions + take the survey Light refreshments will be available! Help us decide what is next. Help us grow to better serve our community. Help us build a better home.
X-ALT-DESC;FMTTYPE=text/html:Thanks to you the SD Discovery Center has been in our community for over 30 years! We are proud of what we have done here at the SD Discovery Center since its founding in 1989. We are a jewel in our community\, and we make a difference every day with your help. But now\, it is time to look to the future. Learn more about the the Center and tour the facility Learn about the new facility and programming needs Discuss concept development and site location options Ask questions + take the survey Light refreshments will be available! Help us decide what is next. Help us grow to better serve our community. Help us build a better home.
LOCATION:SD Discovery Center 805 W Sioux Ave Pierre
UID:e.413.35092
SEQUENCE:3
DTSTAMP:20260423T043220Z
URL:https://business.pierre.org/events/details/discovery-center-open-house-35092
END:VEVENT

END:VCALENDAR
