BEGIN:VCALENDAR
VERSION:2.0
PRODID:-//ChamberMaster//Event Calendar 2.0//EN
METHOD:PUBLISH
X-PUBLISHED-TTL:P3D
REFRESH-INTERVAL:P3D
CALSCALE:GREGORIAN
BEGIN:VEVENT
DTSTART:20200609T180000Z
DTEND:20200609T193000Z
X-MICROSOFT-CDO-ALLDAYEVENT:FALSE
SUMMARY:Discovery Center - Nurture Nature (grades prek-k)
DESCRIPTION:Seedlings: Nurture Nature\n\nAges: PreK-K\n\nJoin us for this remote camp that meets every Tuesday in June. This program brings campers together via Zoom sessions and then sets them loose on a "choose your own adventure" experience driven by child and parent interests and time. Everything is growing this time of year - gardens\, trees\, insects\, birds\, and animals! Each week\, we will spend the time exploring different plants and animals to learn how to take care of nature all around us. What will happen to seeds planted in early June by the end of the month? Can we find a nest of baby birds to observe over time? What insects are our friends? Meet with local entomologist\, Amanda Bachman to learn about how scientists study bugs.
X-ALT-DESC;FMTTYPE=text/html:<div class="kvgmc6g5 cxmmr5t8 oygrvhab hcukyx3x c1et5uql" style="overflow-wrap: break-word\; margin: 0px\; font-family: &quot\;Segoe UI Historic&quot\;\, &quot\;Segoe UI&quot\;\, Helvetica\, Arial\, sans-serif\; color: rgb(5\, 5\, 5)\; font-size: 15px\;">\n<div class="kvgmc6g5 cxmmr5t8 oygrvhab hcukyx3x c1et5uql" style="overflow-wrap: break-word\; margin: 0px\; font-family: &quot\;Segoe UI Historic&quot\;\, &quot\;Segoe UI&quot\;\, Helvetica\, Arial\, sans-serif\; color: rgb(5\, 5\, 5)\; font-size: 15px\;">Seedlings: Nurture Nature<br />\nAges: PreK-K</div>\n\n<div class="o9v6fnle cxmmr5t8 oygrvhab hcukyx3x c1et5uql" style="overflow-wrap: break-word\; margin: 0.5em 0px 0px\; font-family: &quot\;Segoe UI Historic&quot\;\, &quot\;Segoe UI&quot\;\, Helvetica\, Arial\, sans-serif\; color: rgb(5\, 5\, 5)\; font-size: 15px\;">Join us for this remote camp that meets every Tuesday in June. This program brings campers together via Zoom sessions and then sets them loose on a &ldquo\;choose your own adventure&rdquo\; experience driven by child and parent interests and time. Everything is growing this time of year - gardens\, trees\, insects\, birds\, and animals! Each week\, we will spend the time exploring different plants and animals to learn how to take care of nature all around us. What will happen to seeds planted in early June by the end of the month? Can we find a nest of baby birds to observe over time? What insects are our friends? Meet with local entomologist\, Amanda Bachman to learn about how scientists study bugs.&nbsp\;</div>\n</div>\n
LOCATION:Online: https://sd-discovery.org/event-3844570
UID:e.413.32040
SEQUENCE:3
DTSTAMP:20260422T000310Z
URL:https://business.pierre.org/events/details/discovery-center-nurture-nature-grades-prek-k-32040
END:VEVENT

END:VCALENDAR
