BEGIN:VCALENDAR
VERSION:2.0
PRODID:-//ChamberMaster//Event Calendar 2.0//EN
METHOD:PUBLISH
X-PUBLISHED-TTL:P3D
REFRESH-INTERVAL:P3D
CALSCALE:GREGORIAN
BEGIN:VEVENT
DTSTART:20240627T230000Z
DTEND:20240628T020000Z
X-MICROSOFT-CDO-ALLDAYEVENT:FALSE
SUMMARY:Delta Dental Game Night at Oahe Zap!
DESCRIPTION:Join us for a night at the ballpark. Delta Dental is hosting a game night with the Oahe Zap on Thursday\, June 27! The Zap take on the Casper Spuds that evening with first pitch taking place at 6:05pm.
X-ALT-DESC;FMTTYPE=text/html:Join us for a night at the ballpark. Delta Dental is hosting a game night with the Oahe Zap on Thursday\, June 27! The Zap take on the Casper Spuds that evening with first pitch taking place at 6:05pm.
LOCATION:Hyde Stadium - The Powerhouse
UID:e.413.39363
SEQUENCE:3
DTSTAMP:20260421T204711Z
URL:https://business.pierre.org/events/details/delta-dental-game-night-at-oahe-zap-39363
END:VEVENT

END:VCALENDAR
